BEGIN:VCALENDAR
METHOD:PUBLISH
PRODID:Data::ICal 0.13
VERSION:2.0
BEGIN:VEVENT
DESCRIPTION:Source: La Boom event on March 15th / Zamora Live



¡El escenario de La Boom Columbus se va a encender con un cartel espectacular! 🎸🔥 



Envía la palabra BOOM a nuestros mensajes directos en Facebook e Instagram para tu oportunidad de asistir completamente GRATIS.  



 Este domingo 15 de marzo, prepárate para una noche inolvidable de música regional mexicana con la llegada de Conjunto Rienda Real, Banda Carnaval, La Pócima Norteña, El Frizian y Viciado. 



Las puertas abren a las 8:00 PM para que llegues temprano y asegures tu lugar en este bailazo que sacudirá a todo Columbus. No te quedes fuera de este evento de lujo; adquiere tus boletos ya en los lugares de costumbre o a través de zamoralive.com. ¡Sintoniza La Mega Columbus 107.1 y 103.1 FM para ganar tus accesos y vivir la mejor experiencia en tu idioma! 🎙️🤠
DTSTAMP:20260425T132940Z
DTSTART;TZID=:19700101T000000
DTEND;TZID=:19700101T000000
LOCATION:
SUMMARY:Conjunto Rienda Real y Banda Carnaval en La Boom Columbus
UID:1738801--
END:VEVENT
END:VCALENDAR
